BEGIN:VCALENDAR
VERSION:2.0
PRODID:-//Joplin Area Chamber of Commerce - ECPv6.15.20//NONSGML v1.0//EN
CALSCALE:GREGORIAN
METHOD:PUBLISH
X-WR-CALNAME:Joplin Area Chamber of Commerce
X-ORIGINAL-URL:https://joplincc.com
X-WR-CALDESC:Events for Joplin Area Chamber of Commerce
REFRESH-INTERVAL;VALUE=DURATION:PT1H
X-Robots-Tag:noindex
X-PUBLISHED-TTL:PT1H
BEGIN:VTIMEZONE
TZID:America/Chicago
BEGIN:DAYLIGHT
TZOFFSETFROM:-0600
TZOFFSETTO:-0500
TZNAME:CDT
DTSTART:20220313T080000
END:DAYLIGHT
BEGIN:STANDARD
TZOFFSETFROM:-0500
TZOFFSETTO:-0600
TZNAME:CST
DTSTART:20221106T070000
END:STANDARD
BEGIN:DAYLIGHT
TZOFFSETFROM:-0600
TZOFFSETTO:-0500
TZNAME:CDT
DTSTART:20230312T080000
END:DAYLIGHT
BEGIN:STANDARD
TZOFFSETFROM:-0500
TZOFFSETTO:-0600
TZNAME:CST
DTSTART:20231105T070000
END:STANDARD
BEGIN:DAYLIGHT
TZOFFSETFROM:-0600
TZOFFSETTO:-0500
TZNAME:CDT
DTSTART:20240310T080000
END:DAYLIGHT
BEGIN:STANDARD
TZOFFSETFROM:-0500
TZOFFSETTO:-0600
TZNAME:CST
DTSTART:20241103T070000
END:STANDARD
END:VTIMEZONE
BEGIN:VEVENT
DTSTART;TZID=America/Chicago:20230802T083000
DTEND;TZID=America/Chicago:20230802T100000
DTSTAMP:20260423T103404
CREATED:20230629T154648Z
LAST-MODIFIED:20230629T154648Z
UID:4858-1690965000-1690970400@joplincc.com
SUMMARY:1 Million Cups Joplin
DESCRIPTION:Join us at 1 Million Cups Joplin event for free coffee\, caffeinated connections\, and entrepreneurs presenting their business followed by community Q&A. Apply to present on our #1MC website. \nThis is a weekly community event founded by the Kauffman Foundation that brings together entrepreneurs and the Joplin community to connect over coffee and conversation. \n 
URL:https://joplincc.com/event/1-million-cups-joplin-100/
LOCATION:Advanced Training and Technology Center\, 420 S. Grand Avenue\, Joplin\, MO\, 64801\, United States
ATTACH;FMTTYPE=image/png:https://joplincc.com/wp-content/uploads/2021/03/1MC-Joplin.png
END:VEVENT
BEGIN:VEVENT
DTSTART;TZID=America/Chicago:20230802T120000
DTEND;TZID=America/Chicago:20230802T130000
DTSTAMP:20260423T103404
CREATED:20230629T155456Z
LAST-MODIFIED:20230629T155456Z
UID:4860-1690977600-1690981200@joplincc.com
SUMMARY:Lunch & Learn – Sales and Networking
DESCRIPTION:Join Higher Vision Coaching.Training.Consulting for a lunch-and-learn that will focus on enhancing your sales skills. Participants will learn how to move prospects through a strong sales process that leads to more new business as well as how to further create new prospects by using new tools for enhanced networking. \nCome prepared to learn\, ask questions\, and enjoy lunch during this free workshop brought to you by Higher Vision!
URL:https://joplincc.com/event/lunch-learn-sales-and-networking/
LOCATION:Joplin Area Chamber of Commerce\, 320 East 4th Street\, Joplin\, MO\, 64801\, United States
ATTACH;FMTTYPE=image/jpeg:https://joplincc.com/wp-content/uploads/2023/05/higher-vision.jpg
END:VEVENT
END:VCALENDAR