BEGIN:VCALENDAR
VERSION:2.0
PRODID:-//Joplin Area Chamber of Commerce - ECPv6.15.20//NONSGML v1.0//EN
CALSCALE:GREGORIAN
METHOD:PUBLISH
X-ORIGINAL-URL:https://joplincc.com
X-WR-CALDESC:Events for Joplin Area Chamber of Commerce
REFRESH-INTERVAL;VALUE=DURATION:PT1H
X-Robots-Tag:noindex
X-PUBLISHED-TTL:PT1H
BEGIN:VTIMEZONE
TZID:America/Chicago
BEGIN:DAYLIGHT
TZOFFSETFROM:-0600
TZOFFSETTO:-0500
TZNAME:CDT
DTSTART:20220313T080000
END:DAYLIGHT
BEGIN:STANDARD
TZOFFSETFROM:-0500
TZOFFSETTO:-0600
TZNAME:CST
DTSTART:20221106T070000
END:STANDARD
BEGIN:DAYLIGHT
TZOFFSETFROM:-0600
TZOFFSETTO:-0500
TZNAME:CDT
DTSTART:20230312T080000
END:DAYLIGHT
BEGIN:STANDARD
TZOFFSETFROM:-0500
TZOFFSETTO:-0600
TZNAME:CST
DTSTART:20231105T070000
END:STANDARD
BEGIN:DAYLIGHT
TZOFFSETFROM:-0600
TZOFFSETTO:-0500
TZNAME:CDT
DTSTART:20240310T080000
END:DAYLIGHT
BEGIN:STANDARD
TZOFFSETFROM:-0500
TZOFFSETTO:-0600
TZNAME:CST
DTSTART:20241103T070000
END:STANDARD
END:VTIMEZONE
BEGIN:VEVENT
DTSTART;TZID=America/Chicago:20231011T083000
DTEND;TZID=America/Chicago:20231011T100000
DTSTAMP:20260423T122251
CREATED:20230829T191849Z
LAST-MODIFIED:20230829T191849Z
UID:4937-1697013000-1697018400@joplincc.com
SUMMARY:1 Million Cups Joplin
DESCRIPTION:Join us at 1 Million Cups Joplin event for free coffee\, caffeinated connections\, and entrepreneurs presenting their business followed by community Q&A. Apply to present on our #1MC website. \nThis is a weekly community event founded by the Kauffman Foundation that brings together entrepreneurs and the Joplin community to connect over coffee and conversation. \n 
URL:https://joplincc.com/event/1-million-cups-joplin-109/
LOCATION:Advanced Training and Technology Center\, 420 S. Grand Avenue\, Joplin\, MO\, 64801\, United States
ATTACH;FMTTYPE=image/png:https://joplincc.com/wp-content/uploads/2021/03/1MC-Joplin.png
END:VEVENT
BEGIN:VEVENT
DTSTART;TZID=America/Chicago:20231011T120000
DTEND;TZID=America/Chicago:20231011T130000
DTSTAMP:20260423T122251
CREATED:20230829T192506Z
LAST-MODIFIED:20230829T192506Z
UID:4939-1697025600-1697029200@joplincc.com
SUMMARY:Lunch and Learn: 2023 MO Chamber Group Health Plan
DESCRIPTION:Join the Joplin Area Chamber of Commerce and Croley Insurance as we discuss the Chamber Benefit Plan\, which is available to members of the Joplin Chamber. This simple\, affordable medical plan gives small business owners access to a full range of high-quality plans and options that can lead to significant savings. \nThe Chamber Benefit Plan is a self-funded medical offering built on the multiple employer welfare arrangement model. This program allows smaller employers to join together to share in the overall claims risk. By being part of a larger\, self-funded pool\, employers have financial protection backed by Anthem Blue Cross and Blue Shield in Missouri. \nDuring this Lunch and Learn\, participants will learn more about eligibility requirements\, plan details\, and how to enroll your company. Lunch is included at no extra charge\, but registration is required. Please register here.
URL:https://joplincc.com/event/lunch-and-learn-2023-mo-chamber-group-health-plan/
LOCATION:Joplin Area Chamber of Commerce\, 320 East 4th Street\, Joplin\, MO\, 64801\, United States
ATTACH;FMTTYPE=image/jpeg:https://joplincc.com/wp-content/uploads/2023/05/JCCLogo_Digital_FullColor.jpg
END:VEVENT
END:VCALENDAR