BEGIN:VCALENDAR
VERSION:2.0
PRODID:-//Joplin Area Chamber of Commerce - ECPv6.15.20//NONSGML v1.0//EN
CALSCALE:GREGORIAN
METHOD:PUBLISH
X-ORIGINAL-URL:https://joplincc.com
X-WR-CALDESC:Events for Joplin Area Chamber of Commerce
REFRESH-INTERVAL;VALUE=DURATION:PT1H
X-Robots-Tag:noindex
X-PUBLISHED-TTL:PT1H
BEGIN:VTIMEZONE
TZID:America/Chicago
BEGIN:DAYLIGHT
TZOFFSETFROM:-0600
TZOFFSETTO:-0500
TZNAME:CDT
DTSTART:20220313T080000
END:DAYLIGHT
BEGIN:STANDARD
TZOFFSETFROM:-0500
TZOFFSETTO:-0600
TZNAME:CST
DTSTART:20221106T070000
END:STANDARD
BEGIN:DAYLIGHT
TZOFFSETFROM:-0600
TZOFFSETTO:-0500
TZNAME:CDT
DTSTART:20230312T080000
END:DAYLIGHT
BEGIN:STANDARD
TZOFFSETFROM:-0500
TZOFFSETTO:-0600
TZNAME:CST
DTSTART:20231105T070000
END:STANDARD
BEGIN:DAYLIGHT
TZOFFSETFROM:-0600
TZOFFSETTO:-0500
TZNAME:CDT
DTSTART:20240310T080000
END:DAYLIGHT
BEGIN:STANDARD
TZOFFSETFROM:-0500
TZOFFSETTO:-0600
TZNAME:CST
DTSTART:20241103T070000
END:STANDARD
END:VTIMEZONE
BEGIN:VEVENT
DTSTART;TZID=America/Chicago:20231102T173000
DTEND;TZID=America/Chicago:20231102T203000
DTSTAMP:20260423T092007
CREATED:20230928T165658Z
LAST-MODIFIED:20230928T165741Z
UID:4994-1698946200-1698957000@joplincc.com
SUMMARY:2023 Joplin Regional Innovation & Technology Summit
DESCRIPTION:Join the Joplin Area Chamber of Commerce for this kickoff event that launches the two-day Joplin Regional Innovation & Technology Summit! \nShane McCombs\, Chief Operating Officer of the Innocent Lives Foundation\, will be leading a presentation titled “Helping Our Children Thrive on the Internet.” This session will explore facts\, bust myths\, and examine a framework that prepares parents and guardians to have “the internet talk” with their children. \nRegistration is required. Please register here.
URL:https://joplincc.com/event/joplin-regional-innovation-technology-summit/
LOCATION:TBD
ATTACH;FMTTYPE=image/png:https://joplincc.com/wp-content/uploads/2023/09/2023-Jomo-Tech-Summit-FB-Cover.png
END:VEVENT
END:VCALENDAR