BEGIN:VCALENDAR
VERSION:2.0
PRODID:-//Joplin Area Chamber of Commerce - ECPv6.15.20//NONSGML v1.0//EN
CALSCALE:GREGORIAN
METHOD:PUBLISH
X-ORIGINAL-URL:https://joplincc.com
X-WR-CALDESC:Events for Joplin Area Chamber of Commerce
REFRESH-INTERVAL;VALUE=DURATION:PT1H
X-Robots-Tag:noindex
X-PUBLISHED-TTL:PT1H
BEGIN:VTIMEZONE
TZID:America/Chicago
BEGIN:DAYLIGHT
TZOFFSETFROM:-0600
TZOFFSETTO:-0500
TZNAME:CDT
DTSTART:20220313T080000
END:DAYLIGHT
BEGIN:STANDARD
TZOFFSETFROM:-0500
TZOFFSETTO:-0600
TZNAME:CST
DTSTART:20221106T070000
END:STANDARD
BEGIN:DAYLIGHT
TZOFFSETFROM:-0600
TZOFFSETTO:-0500
TZNAME:CDT
DTSTART:20230312T080000
END:DAYLIGHT
BEGIN:STANDARD
TZOFFSETFROM:-0500
TZOFFSETTO:-0600
TZNAME:CST
DTSTART:20231105T070000
END:STANDARD
BEGIN:DAYLIGHT
TZOFFSETFROM:-0600
TZOFFSETTO:-0500
TZNAME:CDT
DTSTART:20240310T080000
END:DAYLIGHT
BEGIN:STANDARD
TZOFFSETFROM:-0500
TZOFFSETTO:-0600
TZNAME:CST
DTSTART:20241103T070000
END:STANDARD
END:VTIMEZONE
BEGIN:VEVENT
DTSTART;TZID=America/Chicago:20231103T073000
DTEND;TZID=America/Chicago:20231103T170000
DTSTAMP:20260423T093407
CREATED:20230928T170412Z
LAST-MODIFIED:20230928T200809Z
UID:4998-1698996600-1699030800@joplincc.com
SUMMARY:2023 Joplin Regional Innovation & Technology Summit
DESCRIPTION:Join the Joplin Area Chamber of Commerce for the third annual 2023 Joplin Regional Innovation & Technology Summit on November 3! This event brings together innovative thinkers and business leaders who leverage technology to overcome barriers and propel business and communities forward. \nThis event will cover a wide variety of technology-related issues and will include keynote speakers\, breakout sessions\, lunch\, and many networking opportunities. \nSecure your ticket and learn more about this event here.
URL:https://joplincc.com/event/2023-joplin-regional-innovation-technology-summit/
LOCATION:James River Church\, 1850 South Maiden Lane\, Joplin\, MO\, 64801\, United States
ATTACH;FMTTYPE=image/png:https://joplincc.com/wp-content/uploads/2023/09/2023-Jomo-Tech-Summit-FB-Cover.png
END:VEVENT
END:VCALENDAR