BEGIN:VCALENDAR
VERSION:2.0
PRODID:-//Joplin Area Chamber of Commerce - ECPv6.15.20//NONSGML v1.0//EN
CALSCALE:GREGORIAN
METHOD:PUBLISH
X-ORIGINAL-URL:https://joplincc.com
X-WR-CALDESC:Events for Joplin Area Chamber of Commerce
REFRESH-INTERVAL;VALUE=DURATION:PT1H
X-Robots-Tag:noindex
X-PUBLISHED-TTL:PT1H
BEGIN:VTIMEZONE
TZID:America/Chicago
BEGIN:DAYLIGHT
TZOFFSETFROM:-0600
TZOFFSETTO:-0500
TZNAME:CDT
DTSTART:20230312T080000
END:DAYLIGHT
BEGIN:STANDARD
TZOFFSETFROM:-0500
TZOFFSETTO:-0600
TZNAME:CST
DTSTART:20231105T070000
END:STANDARD
BEGIN:DAYLIGHT
TZOFFSETFROM:-0600
TZOFFSETTO:-0500
TZNAME:CDT
DTSTART:20240310T080000
END:DAYLIGHT
BEGIN:STANDARD
TZOFFSETFROM:-0500
TZOFFSETTO:-0600
TZNAME:CST
DTSTART:20241103T070000
END:STANDARD
BEGIN:DAYLIGHT
TZOFFSETFROM:-0600
TZOFFSETTO:-0500
TZNAME:CDT
DTSTART:20250309T080000
END:DAYLIGHT
BEGIN:STANDARD
TZOFFSETFROM:-0500
TZOFFSETTO:-0600
TZNAME:CST
DTSTART:20251102T070000
END:STANDARD
END:VTIMEZONE
BEGIN:VEVENT
DTSTART;TZID=America/Chicago:20240906T073000
DTEND;TZID=America/Chicago:20240906T083000
DTSTAMP:20260424T064037
CREATED:20240808T171415Z
LAST-MODIFIED:20240808T171415Z
UID:5375-1725607800-1725611400@joplincc.com
SUMMARY:September 2024 Morning Brew
DESCRIPTION:Begin your day with a new connection at Morning Brew\, presented by Downstream Casino Resort! Missouri American Water is the host of this month’s event. Come out and learn more about them and meet their staff. We look forward to seeing everyone on Friday\, September 6 at 7:30 am! 
URL:https://joplincc.com/event/september-2024-morning-brew/
LOCATION:Missouri American Water Company Water Treatment Plant\, 1118 West 21st Street\, Joplin\, MO\, 64801\, United States
ATTACH;FMTTYPE=image/png:https://joplincc.com/wp-content/uploads/2024/08/Morning-Brew-Graphic.png
END:VEVENT
END:VCALENDAR