BEGIN:VCALENDAR
VERSION:2.0
PRODID:-//Joplin Area Chamber of Commerce - ECPv6.15.20//NONSGML v1.0//EN
CALSCALE:GREGORIAN
METHOD:PUBLISH
X-ORIGINAL-URL:https://joplincc.com
X-WR-CALDESC:Events for Joplin Area Chamber of Commerce
REFRESH-INTERVAL;VALUE=DURATION:PT1H
X-Robots-Tag:noindex
X-PUBLISHED-TTL:PT1H
BEGIN:VTIMEZONE
TZID:America/Chicago
BEGIN:DAYLIGHT
TZOFFSETFROM:-0600
TZOFFSETTO:-0500
TZNAME:CDT
DTSTART:20230312T080000
END:DAYLIGHT
BEGIN:STANDARD
TZOFFSETFROM:-0500
TZOFFSETTO:-0600
TZNAME:CST
DTSTART:20231105T070000
END:STANDARD
BEGIN:DAYLIGHT
TZOFFSETFROM:-0600
TZOFFSETTO:-0500
TZNAME:CDT
DTSTART:20240310T080000
END:DAYLIGHT
BEGIN:STANDARD
TZOFFSETFROM:-0500
TZOFFSETTO:-0600
TZNAME:CST
DTSTART:20241103T070000
END:STANDARD
BEGIN:DAYLIGHT
TZOFFSETFROM:-0600
TZOFFSETTO:-0500
TZNAME:CDT
DTSTART:20250309T080000
END:DAYLIGHT
BEGIN:STANDARD
TZOFFSETFROM:-0500
TZOFFSETTO:-0600
TZNAME:CST
DTSTART:20251102T070000
END:STANDARD
END:VTIMEZONE
BEGIN:VEVENT
DTSTART;TZID=America/Chicago:20241015T163000
DTEND;TZID=America/Chicago:20241015T180000
DTSTAMP:20260424T111735
CREATED:20240925T213502Z
LAST-MODIFIED:20240925T213502Z
UID:5456-1729009800-1729015200@joplincc.com
SUMMARY:October 2024 Business After Hours
DESCRIPTION:Keep the momentum from a good day at work going by making new connections at Business After Hours\, presented by Zimmer Marketing! Downstream Casino Resort is this month’s host and sponsor. Come out and learn more about their business and meet their staff. We look forward to seeing everyone on Tuesday\, October 15 at 4:30 pm. 
URL:https://joplincc.com/event/october-2024-business-after-hours/
LOCATION:Downstream Casino Resort\, 693000 East Nee Road\, Quapaw\, OK\, 74363
ATTACH;FMTTYPE=image/png:https://joplincc.com/wp-content/uploads/2024/09/October-2024-Business-After-Hours-Graphic.png
END:VEVENT
END:VCALENDAR