BEGIN:VCALENDAR
VERSION:2.0
PRODID:-//Joplin Area Chamber of Commerce - ECPv6.15.20//NONSGML v1.0//EN
CALSCALE:GREGORIAN
METHOD:PUBLISH
X-WR-CALNAME:Joplin Area Chamber of Commerce
X-ORIGINAL-URL:https://joplincc.com
X-WR-CALDESC:Events for Joplin Area Chamber of Commerce
REFRESH-INTERVAL;VALUE=DURATION:PT1H
X-Robots-Tag:noindex
X-PUBLISHED-TTL:PT1H
BEGIN:VTIMEZONE
TZID:America/Chicago
BEGIN:DAYLIGHT
TZOFFSETFROM:-0600
TZOFFSETTO:-0500
TZNAME:CDT
DTSTART:20230312T080000
END:DAYLIGHT
BEGIN:STANDARD
TZOFFSETFROM:-0500
TZOFFSETTO:-0600
TZNAME:CST
DTSTART:20231105T070000
END:STANDARD
BEGIN:DAYLIGHT
TZOFFSETFROM:-0600
TZOFFSETTO:-0500
TZNAME:CDT
DTSTART:20240310T080000
END:DAYLIGHT
BEGIN:STANDARD
TZOFFSETFROM:-0500
TZOFFSETTO:-0600
TZNAME:CST
DTSTART:20241103T070000
END:STANDARD
BEGIN:DAYLIGHT
TZOFFSETFROM:-0600
TZOFFSETTO:-0500
TZNAME:CDT
DTSTART:20250309T080000
END:DAYLIGHT
BEGIN:STANDARD
TZOFFSETFROM:-0500
TZOFFSETTO:-0600
TZNAME:CST
DTSTART:20251102T070000
END:STANDARD
END:VTIMEZONE
BEGIN:VEVENT
DTSTART;TZID=America/Chicago:20241028T163000
DTEND;TZID=America/Chicago:20241028T180000
DTSTAMP:20260424T111627
CREATED:20241004T171313Z
LAST-MODIFIED:20241004T171313Z
UID:5475-1730133000-1730138400@joplincc.com
SUMMARY:Regional Member Appreciation Party
DESCRIPTION:Your Chambers appreciate you! \nMembers of the Joplin\, Webb City\, Carl Junction\, Neosho\, and Carthage Chambers of Commerce are invited to come for appetizers\, golf\, pickleball\, and other fun activities as we show our appreciation for our members. A cash bar will also be available. \nThank you to our venue sponsor\, Tee Time\, and our sponsor U.S. Bank for making this event possible!
URL:https://joplincc.com/event/regional-member-appreciation-party/
LOCATION:Tee Time\, 520 E. Broadway Street\, Webb City\, MO\, 64870\, United States
ATTACH;FMTTYPE=image/png:https://joplincc.com/wp-content/uploads/2024/10/Regional-Membership-Event.png
END:VEVENT
END:VCALENDAR