BEGIN:VCALENDAR
VERSION:2.0
PRODID:-//Joplin Area Chamber of Commerce - ECPv6.15.20//NONSGML v1.0//EN
CALSCALE:GREGORIAN
METHOD:PUBLISH
X-WR-CALNAME:Joplin Area Chamber of Commerce
X-ORIGINAL-URL:https://joplincc.com
X-WR-CALDESC:Events for Joplin Area Chamber of Commerce
REFRESH-INTERVAL;VALUE=DURATION:PT1H
X-Robots-Tag:noindex
X-PUBLISHED-TTL:PT1H
BEGIN:VTIMEZONE
TZID:America/Chicago
BEGIN:DAYLIGHT
TZOFFSETFROM:-0600
TZOFFSETTO:-0500
TZNAME:CDT
DTSTART:20220313T080000
END:DAYLIGHT
BEGIN:STANDARD
TZOFFSETFROM:-0500
TZOFFSETTO:-0600
TZNAME:CST
DTSTART:20221106T070000
END:STANDARD
BEGIN:DAYLIGHT
TZOFFSETFROM:-0600
TZOFFSETTO:-0500
TZNAME:CDT
DTSTART:20230312T080000
END:DAYLIGHT
BEGIN:STANDARD
TZOFFSETFROM:-0500
TZOFFSETTO:-0600
TZNAME:CST
DTSTART:20231105T070000
END:STANDARD
BEGIN:DAYLIGHT
TZOFFSETFROM:-0600
TZOFFSETTO:-0500
TZNAME:CDT
DTSTART:20240310T080000
END:DAYLIGHT
BEGIN:STANDARD
TZOFFSETFROM:-0500
TZOFFSETTO:-0600
TZNAME:CST
DTSTART:20241103T070000
END:STANDARD
END:VTIMEZONE
BEGIN:VEVENT
DTSTART;TZID=America/Chicago:20230802T083000
DTEND;TZID=America/Chicago:20230802T100000
DTSTAMP:20260423T103938
CREATED:20230629T154648Z
LAST-MODIFIED:20230629T154648Z
UID:4858-1690965000-1690970400@joplincc.com
SUMMARY:1 Million Cups Joplin
DESCRIPTION:Join us at 1 Million Cups Joplin event for free coffee\, caffeinated connections\, and entrepreneurs presenting their business followed by community Q&A. Apply to present on our #1MC website. \nThis is a weekly community event founded by the Kauffman Foundation that brings together entrepreneurs and the Joplin community to connect over coffee and conversation. \n 
URL:https://joplincc.com/event/1-million-cups-joplin-100/
LOCATION:Advanced Training and Technology Center\, 420 S. Grand Avenue\, Joplin\, MO\, 64801\, United States
ATTACH;FMTTYPE=image/png:https://joplincc.com/wp-content/uploads/2021/03/1MC-Joplin.png
END:VEVENT
BEGIN:VEVENT
DTSTART;TZID=America/Chicago:20230802T120000
DTEND;TZID=America/Chicago:20230802T130000
DTSTAMP:20260423T103938
CREATED:20230629T155456Z
LAST-MODIFIED:20230629T155456Z
UID:4860-1690977600-1690981200@joplincc.com
SUMMARY:Lunch & Learn – Sales and Networking
DESCRIPTION:Join Higher Vision Coaching.Training.Consulting for a lunch-and-learn that will focus on enhancing your sales skills. Participants will learn how to move prospects through a strong sales process that leads to more new business as well as how to further create new prospects by using new tools for enhanced networking. \nCome prepared to learn\, ask questions\, and enjoy lunch during this free workshop brought to you by Higher Vision!
URL:https://joplincc.com/event/lunch-learn-sales-and-networking/
LOCATION:Joplin Area Chamber of Commerce\, 320 East 4th Street\, Joplin\, MO\, 64801\, United States
ATTACH;FMTTYPE=image/jpeg:https://joplincc.com/wp-content/uploads/2023/05/higher-vision.jpg
END:VEVENT
BEGIN:VEVENT
DTSTART;TZID=America/Chicago:20230804T073000
DTEND;TZID=America/Chicago:20230804T083000
DTSTAMP:20260423T103938
CREATED:20230629T160313Z
LAST-MODIFIED:20230629T160343Z
UID:4862-1691134200-1691137800@joplincc.com
SUMMARY:August 2023 Morning Brew
DESCRIPTION:Hosted once a month to highlight individual businesses and offer an informal setting for the area’s business professionals to meet\, mingle\, and make contacts. \nThis month’s Morning Brew is hosted and located at Missouri American Water and presented by Downstream Casino Resort.
URL:https://joplincc.com/event/august-2023-morning-brew/
LOCATION:Missouri American Water Company Water Treatment Plant\, 1118 West 21st Street\, Joplin\, MO\, 64801\, United States
ATTACH;FMTTYPE=image/png:https://joplincc.com/wp-content/uploads/2023/06/Missouri-American-Water-Morning-Brew-Graphic.png
END:VEVENT
BEGIN:VEVENT
DTSTART;TZID=America/Chicago:20230809T083000
DTEND;TZID=America/Chicago:20230809T100000
DTSTAMP:20260423T103938
CREATED:20230629T160431Z
LAST-MODIFIED:20230629T160431Z
UID:4866-1691569800-1691575200@joplincc.com
SUMMARY:1 Million Cups Joplin
DESCRIPTION:Join us at 1 Million Cups Joplin event for free coffee\, caffeinated connections\, and entrepreneurs presenting their business followed by community Q&A. Apply to present on our #1MC website. \nThis is a weekly community event founded by the Kauffman Foundation that brings together entrepreneurs and the Joplin community to connect over coffee and conversation. \n 
URL:https://joplincc.com/event/1-million-cups-joplin-101/
LOCATION:Advanced Training and Technology Center\, 420 S. Grand Avenue\, Joplin\, MO\, 64801\, United States
ATTACH;FMTTYPE=image/png:https://joplincc.com/wp-content/uploads/2021/03/1MC-Joplin.png
END:VEVENT
BEGIN:VEVENT
DTSTART;TZID=America/Chicago:20230815T173000
DTEND;TZID=America/Chicago:20230815T190000
DTSTAMP:20260423T103938
CREATED:20230629T162558Z
LAST-MODIFIED:20230629T162558Z
UID:4871-1692120600-1692126000@joplincc.com
SUMMARY:August 2023 Business After Hours
DESCRIPTION:End your day with connections and keep the momentum going from a good day at work by making new connections at Business After Hours! \nThis month’s Business After Hours is sponsored by Frisco Station Lofts. Business After Hours is presented by Higher Vision Coaching. Training. Consulting.
URL:https://joplincc.com/event/august-2023-business-after-hours/
LOCATION:Frisco Station Lofts\, 601 South Main Street\, Joplin\, MO\, 64801\, United States
ATTACH;FMTTYPE=image/png:https://joplincc.com/wp-content/uploads/2023/06/August-2023-Business-After-Hours-Graphic.png
END:VEVENT
BEGIN:VEVENT
DTSTART;TZID=America/Chicago:20230816T083000
DTEND;TZID=America/Chicago:20230816T100000
DTSTAMP:20260423T103938
CREATED:20230629T162656Z
LAST-MODIFIED:20230629T162656Z
UID:4875-1692174600-1692180000@joplincc.com
SUMMARY:1 Million Cups Joplin
DESCRIPTION:Join us at 1 Million Cups Joplin event for free coffee\, caffeinated connections\, and entrepreneurs presenting their business followed by community Q&A. Apply to present on our #1MC website. \nThis is a weekly community event founded by the Kauffman Foundation that brings together entrepreneurs and the Joplin community to connect over coffee and conversation. \n 
URL:https://joplincc.com/event/1-million-cups-joplin-102/
LOCATION:Advanced Training and Technology Center\, 420 S. Grand Avenue\, Joplin\, MO\, 64801\, United States
ATTACH;FMTTYPE=image/png:https://joplincc.com/wp-content/uploads/2021/03/1MC-Joplin.png
END:VEVENT
BEGIN:VEVENT
DTSTART;TZID=America/Chicago:20230823T083000
DTEND;TZID=America/Chicago:20230823T100000
DTSTAMP:20260423T103938
CREATED:20230629T162741Z
LAST-MODIFIED:20230629T162741Z
UID:4877-1692779400-1692784800@joplincc.com
SUMMARY:1 Million Cups Joplin
DESCRIPTION:Join us at 1 Million Cups Joplin event for free coffee\, caffeinated connections\, and entrepreneurs presenting their business followed by community Q&A. Apply to present on our #1MC website. \nThis is a weekly community event founded by the Kauffman Foundation that brings together entrepreneurs and the Joplin community to connect over coffee and conversation. \n 
URL:https://joplincc.com/event/1-million-cups-joplin-103/
LOCATION:Advanced Training and Technology Center\, 420 S. Grand Avenue\, Joplin\, MO\, 64801\, United States
ATTACH;FMTTYPE=image/png:https://joplincc.com/wp-content/uploads/2021/03/1MC-Joplin.png
END:VEVENT
BEGIN:VEVENT
DTSTART;TZID=America/Chicago:20230825T130000
DTEND;TZID=America/Chicago:20230825T150000
DTSTAMP:20260423T103938
CREATED:20230724T202818Z
LAST-MODIFIED:20230724T202818Z
UID:4886-1692968400-1692975600@joplincc.com
SUMMARY:Retirement Reception for Tonya Sprenkle
DESCRIPTION:Please join us as we celebrate the retirement of our Grants & Special Projects Manager\, Tonya Sprenkle\, after 30 years of working at the Joplin Area Chamber of Commerce! Remarks will begin at 2:00 pm. Cake and punch will be served.
URL:https://joplincc.com/event/retirement-reception-for-tonya-sprenkle/
LOCATION:Joplin Area Chamber of Commerce\, 320 East 4th Street\, Joplin\, MO\, 64801\, United States
END:VEVENT
BEGIN:VEVENT
DTSTART;TZID=America/Chicago:20230830T083000
DTEND;TZID=America/Chicago:20230830T100000
DTSTAMP:20260423T103938
CREATED:20230629T163122Z
LAST-MODIFIED:20230629T163122Z
UID:4879-1693384200-1693389600@joplincc.com
SUMMARY:1 Million Cups Joplin
DESCRIPTION:Join us at 1 Million Cups Joplin event for free coffee\, caffeinated connections\, and entrepreneurs presenting their business followed by community Q&A. Apply to present on our #1MC website. \nThis is a weekly community event founded by the Kauffman Foundation that brings together entrepreneurs and the Joplin community to connect over coffee and conversation. \n 
URL:https://joplincc.com/event/1-million-cups-joplin-104/
LOCATION:Advanced Training and Technology Center\, 420 S. Grand Avenue\, Joplin\, MO\, 64801\, United States
ATTACH;FMTTYPE=image/png:https://joplincc.com/wp-content/uploads/2021/03/1MC-Joplin.png
END:VEVENT
END:VCALENDAR