BEGIN:VCALENDAR
VERSION:2.0
PRODID:-//Joplin Area Chamber of Commerce - ECPv6.15.20//NONSGML v1.0//EN
CALSCALE:GREGORIAN
METHOD:PUBLISH
X-ORIGINAL-URL:https://joplincc.com
X-WR-CALDESC:Events for Joplin Area Chamber of Commerce
REFRESH-INTERVAL;VALUE=DURATION:PT1H
X-Robots-Tag:noindex
X-PUBLISHED-TTL:PT1H
BEGIN:VTIMEZONE
TZID:America/Chicago
BEGIN:DAYLIGHT
TZOFFSETFROM:-0600
TZOFFSETTO:-0500
TZNAME:CDT
DTSTART:20220313T080000
END:DAYLIGHT
BEGIN:STANDARD
TZOFFSETFROM:-0500
TZOFFSETTO:-0600
TZNAME:CST
DTSTART:20221106T070000
END:STANDARD
BEGIN:DAYLIGHT
TZOFFSETFROM:-0600
TZOFFSETTO:-0500
TZNAME:CDT
DTSTART:20230312T080000
END:DAYLIGHT
BEGIN:STANDARD
TZOFFSETFROM:-0500
TZOFFSETTO:-0600
TZNAME:CST
DTSTART:20231105T070000
END:STANDARD
BEGIN:DAYLIGHT
TZOFFSETFROM:-0600
TZOFFSETTO:-0500
TZNAME:CDT
DTSTART:20240310T080000
END:DAYLIGHT
BEGIN:STANDARD
TZOFFSETFROM:-0500
TZOFFSETTO:-0600
TZNAME:CST
DTSTART:20241103T070000
END:STANDARD
END:VTIMEZONE
BEGIN:VEVENT
DTSTART;TZID=America/Chicago:20230908T073000
DTEND;TZID=America/Chicago:20230908T083000
DTSTAMP:20260423T122352
CREATED:20230724T203640Z
LAST-MODIFIED:20230724T203640Z
UID:4891-1694158200-1694161800@joplincc.com
SUMMARY:September 2023 Morning Brew
DESCRIPTION:Hosted once a month to highlight individual businesses and offer an informal setting for the area’s business professionals to meet\, mingle\, and make contacts. \nThis month’s Morning Brew is hosted and located at Joplin Greenhouse & The Coffee Shop and presented by Downstream Casino Resort.
URL:https://joplincc.com/event/september-2023-morning-brew/
LOCATION:Joplin Greenhouse & The Coffee Shop\, 2820 E. 32nd Street\, Joplin\, MO\, 64804\, United States
ATTACH;FMTTYPE=image/png:https://joplincc.com/wp-content/uploads/2023/07/Joplin-Greenhouse-Morning-Brew-Graphic.png
END:VEVENT
BEGIN:VEVENT
DTSTART;TZID=America/Chicago:20230913T080000
DTEND;TZID=America/Chicago:20230913T170000
DTSTAMP:20260423T122352
CREATED:20230724T204110Z
LAST-MODIFIED:20230724T204110Z
UID:4894-1694592000-1694624400@joplincc.com
SUMMARY:Good Morning Joplin
DESCRIPTION:This quarterly breakfast gathers Chamber members for networking and for the opportunity to hear about what’s going on in Joplin. Morning speakers can sign up for their one minute at the mic where they can highlight their business or upcoming events/promotions. \nThis quarter’s Good Morning Joplin is hosted at The Emerald Event Centers\, sponsored by U.S. Bank\, and presented by Mercy.
URL:https://joplincc.com/event/good-morning-joplin-6/
LOCATION:The Emerald Event Centers\, 4975 East Zora Street\, Joplin\, MO\, 64801\, United States
ATTACH;FMTTYPE=image/jpeg:https://joplincc.com/wp-content/uploads/2023/05/JCCLogo_Digital_FullColor.jpg
END:VEVENT
BEGIN:VEVENT
DTSTART;TZID=America/Chicago:20230913T083000
DTEND;TZID=America/Chicago:20230913T100000
DTSTAMP:20260423T122352
CREATED:20230724T204204Z
LAST-MODIFIED:20230724T204204Z
UID:4897-1694593800-1694599200@joplincc.com
SUMMARY:1 Million Cups Joplin
DESCRIPTION:Join us at 1 Million Cups Joplin event for free coffee\, caffeinated connections\, and entrepreneurs presenting their business followed by community Q&A. Apply to present on our #1MC website. \nThis is a weekly community event founded by the Kauffman Foundation that brings together entrepreneurs and the Joplin community to connect over coffee and conversation. \n 
URL:https://joplincc.com/event/1-million-cups-joplin-105/
LOCATION:Advanced Training and Technology Center\, 420 S. Grand Avenue\, Joplin\, MO\, 64801\, United States
ATTACH;FMTTYPE=image/png:https://joplincc.com/wp-content/uploads/2021/03/1MC-Joplin.png
END:VEVENT
BEGIN:VEVENT
DTSTART;TZID=America/Chicago:20230914T080000
DTEND;TZID=America/Chicago:20230914T090000
DTSTAMP:20260423T122352
CREATED:20230724T204311Z
LAST-MODIFIED:20230829T190720Z
UID:4899-1694678400-1694682000@joplincc.com
SUMMARY:September 2023 e-Commerce Meetup
DESCRIPTION:e-Commerce Meetups are monthly get-togethers held on the second Thursday of every month. \nJoin us for a discussion on the following topics: \nAmazon Seller Central | Shopify | Walmart.com | eBay | Shopping Cart Abandonment | FBA & Third Party Fulfillment | Shipping Software | Retargeting Pixels | Google Shopping | Product Feeds | SEO | Product Photography and Video Production | Social & Search Marketing | Etsy | Omni-Channel Sales \nThis month’s e-Commerce Meetup will be hosted by aliceCBD. \n 
URL:https://joplincc.com/event/september-2023-e-commerce-meetup/
LOCATION:aliceCBD\, 5399 State Highway 43\, Building D\, Joplin\, MO\, 64804\, United States
ATTACH;FMTTYPE=image/jpeg:https://joplincc.com/wp-content/uploads/2020/11/123280806_10158632826624687_828240173472783949_o.jpg
END:VEVENT
BEGIN:VEVENT
DTSTART;TZID=America/Chicago:20230919T173000
DTEND;TZID=America/Chicago:20230919T190000
DTSTAMP:20260423T122352
CREATED:20230724T205115Z
LAST-MODIFIED:20230810T205300Z
UID:4901-1695144600-1695150000@joplincc.com
SUMMARY:September 2023 Business After Hours
DESCRIPTION:End your day with connections and keep the momentum going from a good day at work by making new connections at Business After Hours! \nThis month’s Business After Hours is sponsored by Pro X Property Management and will be hosted on the outdoor patio of Social BTB. Business After Hours is presented by Higher Vision Coaching. Training. Consulting.
URL:https://joplincc.com/event/september-2023-business-after-hours/
LOCATION:Pro X Property Management\, 1027 S. Main Street\, Joplin\, MO\, 64801\, United States
ATTACH;FMTTYPE=image/png:https://joplincc.com/wp-content/uploads/2023/07/September-2023-Business-After-Hours-Graphic-1.png
END:VEVENT
BEGIN:VEVENT
DTSTART;TZID=America/Chicago:20230920T083000
DTEND;TZID=America/Chicago:20230920T100000
DTSTAMP:20260423T122352
CREATED:20230724T205213Z
LAST-MODIFIED:20230724T205213Z
UID:4906-1695198600-1695204000@joplincc.com
SUMMARY:1 Million Cups Joplin
DESCRIPTION:Join us at 1 Million Cups Joplin event for free coffee\, caffeinated connections\, and entrepreneurs presenting their business followed by community Q&A. Apply to present on our #1MC website. \nThis is a weekly community event founded by the Kauffman Foundation that brings together entrepreneurs and the Joplin community to connect over coffee and conversation. \n 
URL:https://joplincc.com/event/1-million-cups-joplin-106/
LOCATION:Advanced Training and Technology Center\, 420 S. Grand Avenue\, Joplin\, MO\, 64801\, United States
ATTACH;FMTTYPE=image/png:https://joplincc.com/wp-content/uploads/2021/03/1MC-Joplin.png
END:VEVENT
BEGIN:VEVENT
DTSTART;TZID=America/Chicago:20230921T160000
DTEND;TZID=America/Chicago:20230921T180000
DTSTAMP:20260423T122352
CREATED:20230724T205543Z
LAST-MODIFIED:20230810T205443Z
UID:4908-1695312000-1695319200@joplincc.com
SUMMARY:YPN Speed Networking and Social Hour
DESCRIPTION:Join the Joplin Chamber’s Young Professional Network (YPN) and get to know other business professionals under the age of 40! \nThis event will feature a speed networking event with rotating one-on-on speed rounds of one to three minutes depending on attendance. Individuals will be given talking points and will also exchange contact information before moving onto their next connection. \nFollowing the speed networking will be a social hour. Stay tuned for more details!
URL:https://joplincc.com/event/ypn-speed-networking-and-social-hour/
LOCATION:TBD
ATTACH;FMTTYPE=image/png:https://joplincc.com/wp-content/uploads/2019/09/YPN-logo-trans.png
END:VEVENT
BEGIN:VEVENT
DTSTART;TZID=America/Chicago:20230927T083000
DTEND;TZID=America/Chicago:20230927T100000
DTSTAMP:20260423T122352
CREATED:20230724T205620Z
LAST-MODIFIED:20230724T205620Z
UID:4910-1695803400-1695808800@joplincc.com
SUMMARY:1 Million Cups Joplin
DESCRIPTION:Join us at 1 Million Cups Joplin event for free coffee\, caffeinated connections\, and entrepreneurs presenting their business followed by community Q&A. Apply to present on our #1MC website. \nThis is a weekly community event founded by the Kauffman Foundation that brings together entrepreneurs and the Joplin community to connect over coffee and conversation. \n 
URL:https://joplincc.com/event/1-million-cups-joplin-107/
LOCATION:Advanced Training and Technology Center\, 420 S. Grand Avenue\, Joplin\, MO\, 64801\, United States
ATTACH;FMTTYPE=image/png:https://joplincc.com/wp-content/uploads/2021/03/1MC-Joplin.png
END:VEVENT
BEGIN:VEVENT
DTSTART;TZID=America/Chicago:20230929T090000
DTEND;TZID=America/Chicago:20230929T140000
DTSTAMP:20260423T122352
CREATED:20230724T210109Z
LAST-MODIFIED:20230724T210109Z
UID:4912-1695978000-1695996000@joplincc.com
SUMMARY:2023 Hot Links Annual Golf Tournament: Fall Edition!
DESCRIPTION:Join us as you work on strengthening your interpersonal relationships and your golf game! A mixture of recreation and networking\, Hot Links is one of the premier golf outings in Joplin and offers great food and prizes. \nAll the teams for our fall tournament are booked\, but if you would like to join the waiting list\, please contact Stephanie McGrew at stephanie@joplincc.com. \nHot Links Annual Golf Tournament is presented by Downstream Casino Resort and Freeman Health System.
URL:https://joplincc.com/event/2023-hot-links-annual-golf-tournament-fall-edition/
LOCATION:Eagle Creek Golf and Country Club\, 2742 Ben Pell Drive\, Joplin\, MO\, 64804\, United States
ATTACH;FMTTYPE=image/jpeg:https://joplincc.com/wp-content/uploads/2023/05/JCCLogo_Digital_FullColor.jpg
END:VEVENT
END:VCALENDAR