BEGIN:VCALENDAR
VERSION:2.0
PRODID:-//Joplin Area Chamber of Commerce - ECPv6.15.20//NONSGML v1.0//EN
CALSCALE:GREGORIAN
METHOD:PUBLISH
X-WR-CALNAME:Joplin Area Chamber of Commerce
X-ORIGINAL-URL:https://joplincc.com
X-WR-CALDESC:Events for Joplin Area Chamber of Commerce
REFRESH-INTERVAL;VALUE=DURATION:PT1H
X-Robots-Tag:noindex
X-PUBLISHED-TTL:PT1H
BEGIN:VTIMEZONE
TZID:America/Chicago
BEGIN:DAYLIGHT
TZOFFSETFROM:-0600
TZOFFSETTO:-0500
TZNAME:CDT
DTSTART:20220313T080000
END:DAYLIGHT
BEGIN:STANDARD
TZOFFSETFROM:-0500
TZOFFSETTO:-0600
TZNAME:CST
DTSTART:20221106T070000
END:STANDARD
BEGIN:DAYLIGHT
TZOFFSETFROM:-0600
TZOFFSETTO:-0500
TZNAME:CDT
DTSTART:20230312T080000
END:DAYLIGHT
BEGIN:STANDARD
TZOFFSETFROM:-0500
TZOFFSETTO:-0600
TZNAME:CST
DTSTART:20231105T070000
END:STANDARD
BEGIN:DAYLIGHT
TZOFFSETFROM:-0600
TZOFFSETTO:-0500
TZNAME:CDT
DTSTART:20240310T080000
END:DAYLIGHT
BEGIN:STANDARD
TZOFFSETFROM:-0500
TZOFFSETTO:-0600
TZNAME:CST
DTSTART:20241103T070000
END:STANDARD
END:VTIMEZONE
BEGIN:VEVENT
DTSTART;TZID=America/Chicago:20231004T083000
DTEND;TZID=America/Chicago:20231004T100000
DTSTAMP:20260423T093352
CREATED:20230829T190816Z
LAST-MODIFIED:20230829T190816Z
UID:4931-1696408200-1696413600@joplincc.com
SUMMARY:1 Million Cups Joplin
DESCRIPTION:Join us at 1 Million Cups Joplin event for free coffee\, caffeinated connections\, and entrepreneurs presenting their business followed by community Q&A. Apply to present on our #1MC website. \nThis is a weekly community event founded by the Kauffman Foundation that brings together entrepreneurs and the Joplin community to connect over coffee and conversation. \n 
URL:https://joplincc.com/event/1-million-cups-joplin-108/
LOCATION:Advanced Training and Technology Center\, 420 S. Grand Avenue\, Joplin\, MO\, 64801\, United States
ATTACH;FMTTYPE=image/png:https://joplincc.com/wp-content/uploads/2021/03/1MC-Joplin.png
END:VEVENT
BEGIN:VEVENT
DTSTART;TZID=America/Chicago:20231006T073000
DTEND;TZID=America/Chicago:20231006T083000
DTSTAMP:20260423T093353
CREATED:20230829T191758Z
LAST-MODIFIED:20230829T191758Z
UID:4933-1696577400-1696581000@joplincc.com
SUMMARY:October 2023 Morning Brew
DESCRIPTION:Hosted once a month to highlight individual businesses and offer an informal setting for the area’s business professionals to meet\, mingle\, and make contacts. \nThis month’s Morning Brew is hosted and located at The Arc of the Ozarks and presented by Downstream Casino Resort.
URL:https://joplincc.com/event/october-2023-morning-brew/
LOCATION:The Arc Of The Ozarks\, 4722 East 32nd Street\, Joplin\, MO\, 64804\, United States
ATTACH;FMTTYPE=image/png:https://joplincc.com/wp-content/uploads/2023/08/Arc-of-the-Ozarks-Morning-Brew-Graphic-1.png
END:VEVENT
BEGIN:VEVENT
DTSTART;TZID=America/Chicago:20231010T173000
DTEND;TZID=America/Chicago:20231010T190000
DTSTAMP:20260423T093353
CREATED:20230928T163740Z
LAST-MODIFIED:20230928T163740Z
UID:4990-1696959000-1696964400@joplincc.com
SUMMARY:Equity\, Diversity and Inclusion Group – Courageous Conversations
DESCRIPTION:Join the Joplin Chamber’s Equity\, Diversity and Inclusion work group for a Courageous Conversations event at Joplin Avenue Coffee Company.
URL:https://joplincc.com/event/equity-diversity-and-inclusion-group-courageous-conversations/
LOCATION:Joplin Avenue Coffee Company\, 506 South Joplin Avenue\, Joplin\, MO\, 64801\, United States
ATTACH;FMTTYPE=image/jpeg:https://joplincc.com/wp-content/uploads/2023/05/JCCLogo_Digital_FullColor.jpg
END:VEVENT
BEGIN:VEVENT
DTSTART;TZID=America/Chicago:20231011T083000
DTEND;TZID=America/Chicago:20231011T100000
DTSTAMP:20260423T093353
CREATED:20230829T191849Z
LAST-MODIFIED:20230829T191849Z
UID:4937-1697013000-1697018400@joplincc.com
SUMMARY:1 Million Cups Joplin
DESCRIPTION:Join us at 1 Million Cups Joplin event for free coffee\, caffeinated connections\, and entrepreneurs presenting their business followed by community Q&A. Apply to present on our #1MC website. \nThis is a weekly community event founded by the Kauffman Foundation that brings together entrepreneurs and the Joplin community to connect over coffee and conversation. \n 
URL:https://joplincc.com/event/1-million-cups-joplin-109/
LOCATION:Advanced Training and Technology Center\, 420 S. Grand Avenue\, Joplin\, MO\, 64801\, United States
ATTACH;FMTTYPE=image/png:https://joplincc.com/wp-content/uploads/2021/03/1MC-Joplin.png
END:VEVENT
BEGIN:VEVENT
DTSTART;TZID=America/Chicago:20231011T120000
DTEND;TZID=America/Chicago:20231011T130000
DTSTAMP:20260423T093353
CREATED:20230829T192506Z
LAST-MODIFIED:20230829T192506Z
UID:4939-1697025600-1697029200@joplincc.com
SUMMARY:Lunch and Learn: 2023 MO Chamber Group Health Plan
DESCRIPTION:Join the Joplin Area Chamber of Commerce and Croley Insurance as we discuss the Chamber Benefit Plan\, which is available to members of the Joplin Chamber. This simple\, affordable medical plan gives small business owners access to a full range of high-quality plans and options that can lead to significant savings. \nThe Chamber Benefit Plan is a self-funded medical offering built on the multiple employer welfare arrangement model. This program allows smaller employers to join together to share in the overall claims risk. By being part of a larger\, self-funded pool\, employers have financial protection backed by Anthem Blue Cross and Blue Shield in Missouri. \nDuring this Lunch and Learn\, participants will learn more about eligibility requirements\, plan details\, and how to enroll your company. Lunch is included at no extra charge\, but registration is required. Please register here.
URL:https://joplincc.com/event/lunch-and-learn-2023-mo-chamber-group-health-plan/
LOCATION:Joplin Area Chamber of Commerce\, 320 East 4th Street\, Joplin\, MO\, 64801\, United States
ATTACH;FMTTYPE=image/jpeg:https://joplincc.com/wp-content/uploads/2023/05/JCCLogo_Digital_FullColor.jpg
END:VEVENT
BEGIN:VEVENT
DTSTART;TZID=America/Chicago:20231012T160000
DTEND;TZID=America/Chicago:20231012T170000
DTSTAMP:20260423T093353
CREATED:20230829T192822Z
LAST-MODIFIED:20231010T204757Z
UID:4941-1697126400-1697130000@joplincc.com
SUMMARY:October 2023 e-Commerce Meetup
DESCRIPTION:e-Commerce Meetups are monthly get-togethers held on the second Thursday of every month. \nJoin us for a discussion on the following topics: \nAmazon Seller Central | Shopify | Walmart.com | eBay | Shopping Cart Abandonment | FBA & Third Party Fulfillment | Shipping Software | Retargeting Pixels | Google Shopping | Product Feeds | SEO | Product Photography and Video Production | Social & Search Marketing | Etsy | Omni-Channel Sales \nThe location of this month’s e-Commerce Meetup will be held at the Joplin Area Chamber of Commerce. \n 
URL:https://joplincc.com/event/october-2023-e-commerce-meetup/
LOCATION:Joplin Area Chamber of Commerce\, 320 East 4th Street\, Joplin\, MO\, 64801\, United States
ATTACH;FMTTYPE=image/jpeg:https://joplincc.com/wp-content/uploads/2020/11/123280806_10158632826624687_828240173472783949_o.jpg
END:VEVENT
BEGIN:VEVENT
DTSTART;TZID=America/Chicago:20231017T173000
DTEND;TZID=America/Chicago:20231017T190000
DTSTAMP:20260423T093353
CREATED:20230829T193536Z
LAST-MODIFIED:20230829T193536Z
UID:4943-1697563800-1697569200@joplincc.com
SUMMARY:October 2023 Business After Hours
DESCRIPTION:End your day with connections and keep the momentum going from a good day at work by making new connections at Business After Hours! \nThis month’s Business After Hours is sponsored by Downstream Casino Resort. Business After Hours is presented by Higher Vision Coaching. Training. Consulting.
URL:https://joplincc.com/event/october-2023-business-after-hours/
LOCATION:Downstream Casino Resort\, 693000 East Nee Road\, Quapaw\, OK\, 74363
ATTACH;FMTTYPE=image/png:https://joplincc.com/wp-content/uploads/2023/08/October-2023-Business-After-Hours-Graphic.png
END:VEVENT
BEGIN:VEVENT
DTSTART;TZID=America/Chicago:20231018T083000
DTEND;TZID=America/Chicago:20231018T100000
DTSTAMP:20260423T093353
CREATED:20230829T194201Z
LAST-MODIFIED:20230829T194201Z
UID:4950-1697617800-1697623200@joplincc.com
SUMMARY:1 Million Cups Joplin
DESCRIPTION:Join us at 1 Million Cups Joplin event for free coffee\, caffeinated connections\, and entrepreneurs presenting their business followed by community Q&A. Apply to present on our #1MC website. \nThis is a weekly community event founded by the Kauffman Foundation that brings together entrepreneurs and the Joplin community to connect over coffee and conversation. \n 
URL:https://joplincc.com/event/1-million-cups-joplin-110/
LOCATION:Advanced Training and Technology Center\, 420 S. Grand Avenue\, Joplin\, MO\, 64801\, United States
ATTACH;FMTTYPE=image/png:https://joplincc.com/wp-content/uploads/2021/03/1MC-Joplin.png
END:VEVENT
BEGIN:VEVENT
DTSTART;TZID=America/Chicago:20231020T073000
DTEND;TZID=America/Chicago:20231020T120000
DTSTAMP:20260423T093353
CREATED:20230829T194118Z
LAST-MODIFIED:20230829T194118Z
UID:4946-1697787000-1697803200@joplincc.com
SUMMARY:2023 Economic Growth Tour
DESCRIPTION:Economic Growth Tour is an annual behind-the-scenes tour of Joplin. The tour is open to local and state elected government officials\, business leaders\, representatives of public and private schools\, media\, and other interested community leaders. As the Joplin region continues to transform and grow\, it is important for key decision makers to meet the innovators\, entrepreneurs\, and cultural enterprises that are attracting new talent and businesses to our city. \nJoin us on Friday\, October 20\, 2023\, for the 2023 Economic Growth Tour! Registration opens on Friday\, September 1 and is $15 per person to attend. Participants must register and pay online in order to join the tour. Click here to register. \nThe 2023 Economic Growth Tour is made possible by our generous sponsors: \n\nPresenting Sponsor: Liberty\nGold Sponsors: Kansas City University – Joplin and U.S. Bank\nLunch Sponsor: Thomas Jefferson Independent Day School\n\n 
URL:https://joplincc.com/event/2023-economic-growth-tour/
LOCATION:Various
ATTACH;FMTTYPE=image/jpeg:https://joplincc.com/wp-content/uploads/2023/08/2023-Eco-Tour-Graphic.jpg
END:VEVENT
BEGIN:VEVENT
DTSTART;TZID=America/Chicago:20231025T083000
DTEND;TZID=America/Chicago:20231025T100000
DTSTAMP:20260423T093353
CREATED:20230829T194232Z
LAST-MODIFIED:20230829T194232Z
UID:4952-1698222600-1698228000@joplincc.com
SUMMARY:1 Million Cups Joplin
DESCRIPTION:Join us at 1 Million Cups Joplin event for free coffee\, caffeinated connections\, and entrepreneurs presenting their business followed by community Q&A. Apply to present on our #1MC website. \nThis is a weekly community event founded by the Kauffman Foundation that brings together entrepreneurs and the Joplin community to connect over coffee and conversation. \n 
URL:https://joplincc.com/event/1-million-cups-joplin-111/
LOCATION:Advanced Training and Technology Center\, 420 S. Grand Avenue\, Joplin\, MO\, 64801\, United States
ATTACH;FMTTYPE=image/png:https://joplincc.com/wp-content/uploads/2021/03/1MC-Joplin.png
END:VEVENT
END:VCALENDAR