BEGIN:VCALENDAR
VERSION:2.0
PRODID:-//Joplin Area Chamber of Commerce - ECPv6.15.20//NONSGML v1.0//EN
CALSCALE:GREGORIAN
METHOD:PUBLISH
X-WR-CALNAME:Joplin Area Chamber of Commerce
X-ORIGINAL-URL:https://joplincc.com
X-WR-CALDESC:Events for Joplin Area Chamber of Commerce
REFRESH-INTERVAL;VALUE=DURATION:PT1H
X-Robots-Tag:noindex
X-PUBLISHED-TTL:PT1H
BEGIN:VTIMEZONE
TZID:America/Chicago
BEGIN:DAYLIGHT
TZOFFSETFROM:-0600
TZOFFSETTO:-0500
TZNAME:CDT
DTSTART:20220313T080000
END:DAYLIGHT
BEGIN:STANDARD
TZOFFSETFROM:-0500
TZOFFSETTO:-0600
TZNAME:CST
DTSTART:20221106T070000
END:STANDARD
BEGIN:DAYLIGHT
TZOFFSETFROM:-0600
TZOFFSETTO:-0500
TZNAME:CDT
DTSTART:20230312T080000
END:DAYLIGHT
BEGIN:STANDARD
TZOFFSETFROM:-0500
TZOFFSETTO:-0600
TZNAME:CST
DTSTART:20231105T070000
END:STANDARD
BEGIN:DAYLIGHT
TZOFFSETFROM:-0600
TZOFFSETTO:-0500
TZNAME:CDT
DTSTART:20240310T080000
END:DAYLIGHT
BEGIN:STANDARD
TZOFFSETFROM:-0500
TZOFFSETTO:-0600
TZNAME:CST
DTSTART:20241103T070000
END:STANDARD
END:VTIMEZONE
BEGIN:VEVENT
DTSTART;TZID=America/Chicago:20231101T083000
DTEND;TZID=America/Chicago:20231101T100000
DTSTAMP:20260423T075702
CREATED:20230928T163856Z
LAST-MODIFIED:20230928T163856Z
UID:4992-1698827400-1698832800@joplincc.com
SUMMARY:1 Million Cups Joplin
DESCRIPTION:Join us at 1 Million Cups Joplin event for free coffee\, caffeinated connections\, and entrepreneurs presenting their business followed by community Q&A. Apply to present on our #1MC website. \nThis is a weekly community event founded by the Kauffman Foundation that brings together entrepreneurs and the Joplin community to connect over coffee and conversation. \n 
URL:https://joplincc.com/event/1-million-cups-joplin-112/
LOCATION:Advanced Training and Technology Center\, 420 S. Grand Avenue\, Joplin\, MO\, 64801\, United States
ATTACH;FMTTYPE=image/png:https://joplincc.com/wp-content/uploads/2021/03/1MC-Joplin.png
END:VEVENT
BEGIN:VEVENT
DTSTART;TZID=America/Chicago:20231102T173000
DTEND;TZID=America/Chicago:20231102T203000
DTSTAMP:20260423T075702
CREATED:20230928T165658Z
LAST-MODIFIED:20230928T165741Z
UID:4994-1698946200-1698957000@joplincc.com
SUMMARY:2023 Joplin Regional Innovation & Technology Summit
DESCRIPTION:Join the Joplin Area Chamber of Commerce for this kickoff event that launches the two-day Joplin Regional Innovation & Technology Summit! \nShane McCombs\, Chief Operating Officer of the Innocent Lives Foundation\, will be leading a presentation titled “Helping Our Children Thrive on the Internet.” This session will explore facts\, bust myths\, and examine a framework that prepares parents and guardians to have “the internet talk” with their children. \nRegistration is required. Please register here.
URL:https://joplincc.com/event/joplin-regional-innovation-technology-summit/
LOCATION:TBD
ATTACH;FMTTYPE=image/png:https://joplincc.com/wp-content/uploads/2023/09/2023-Jomo-Tech-Summit-FB-Cover.png
END:VEVENT
BEGIN:VEVENT
DTSTART;TZID=America/Chicago:20231103T073000
DTEND;TZID=America/Chicago:20231103T170000
DTSTAMP:20260423T075702
CREATED:20230928T170412Z
LAST-MODIFIED:20230928T200809Z
UID:4998-1698996600-1699030800@joplincc.com
SUMMARY:2023 Joplin Regional Innovation & Technology Summit
DESCRIPTION:Join the Joplin Area Chamber of Commerce for the third annual 2023 Joplin Regional Innovation & Technology Summit on November 3! This event brings together innovative thinkers and business leaders who leverage technology to overcome barriers and propel business and communities forward. \nThis event will cover a wide variety of technology-related issues and will include keynote speakers\, breakout sessions\, lunch\, and many networking opportunities. \nSecure your ticket and learn more about this event here.
URL:https://joplincc.com/event/2023-joplin-regional-innovation-technology-summit/
LOCATION:James River Church\, 1850 South Maiden Lane\, Joplin\, MO\, 64801\, United States
ATTACH;FMTTYPE=image/png:https://joplincc.com/wp-content/uploads/2023/09/2023-Jomo-Tech-Summit-FB-Cover.png
END:VEVENT
BEGIN:VEVENT
DTSTART;TZID=America/Chicago:20231108T083000
DTEND;TZID=America/Chicago:20231108T100000
DTSTAMP:20260423T075702
CREATED:20230928T170555Z
LAST-MODIFIED:20231102T144613Z
UID:5001-1699432200-1699437600@joplincc.com
SUMMARY:1 Million Cups Joplin
DESCRIPTION:Join us at 1 Million Cups Joplin event for free coffee\, caffeinated connections\, and entrepreneurs presenting their business followed by community Q&A. Apply to present on our #1MC website. \nThis is a weekly community event founded by the Kauffman Foundation that brings together entrepreneurs and the Joplin community to connect over coffee and conversation. \n 
URL:https://joplincc.com/event/1-million-cups-joplin-113/
LOCATION:Union Station Deli\, 705 S. Illinois Avenue\, Joplin\, 64801\, United States
ATTACH;FMTTYPE=image/png:https://joplincc.com/wp-content/uploads/2021/03/1MC-Joplin.png
END:VEVENT
BEGIN:VEVENT
DTSTART;TZID=America/Chicago:20231109T080000
DTEND;TZID=America/Chicago:20231109T090000
DTSTAMP:20260423T075702
CREATED:20230928T170708Z
LAST-MODIFIED:20230928T200012Z
UID:5004-1699516800-1699520400@joplincc.com
SUMMARY:November 2023 e-Commerce Meetup
DESCRIPTION:e-Commerce Meetups are monthly get-togethers held on the second Thursday of every month. \nJoin us for a discussion on the following topics: \nAmazon Seller Central | Shopify | Walmart.com | eBay | Shopping Cart Abandonment | FBA & Third Party Fulfillment | Shipping Software | Retargeting Pixels | Google Shopping | Product Feeds | SEO | Product Photography and Video Production | Social & Search Marketing | Etsy | Omni-Channel Sales \nThe location of this month’s e-Commerce Meetup will be announced soon. Stay tuned for details! \n 
URL:https://joplincc.com/event/november-2023-e-commerce-meetup/
LOCATION:TBD
ATTACH;FMTTYPE=image/jpeg:https://joplincc.com/wp-content/uploads/2020/11/123280806_10158632826624687_828240173472783949_o.jpg
END:VEVENT
BEGIN:VEVENT
DTSTART;TZID=America/Chicago:20231110T073000
DTEND;TZID=America/Chicago:20231110T083000
DTSTAMP:20260423T075702
CREATED:20230928T173517Z
LAST-MODIFIED:20230928T173517Z
UID:5006-1699601400-1699605000@joplincc.com
SUMMARY:November 2023 Morning Brew
DESCRIPTION:Hosted once a month to highlight individual businesses and offer an informal setting for the area’s business professionals to meet\, mingle\, and make contacts. \nThis month’s Morning Brew is hosted and located at Osborn Paper Company and presented by Downstream Casino Resort.
URL:https://joplincc.com/event/november-2023-morning-brew/
LOCATION:Osborn Paper Company\, 417 S. Schifferdecker Avenue\, Joplin\, 64801\, United States
ATTACH;FMTTYPE=image/png:https://joplincc.com/wp-content/uploads/2023/08/Arc-of-the-Ozarks-Morning-Brew-Graphic-1.png
END:VEVENT
BEGIN:VEVENT
DTSTART;TZID=America/Chicago:20231114T173000
DTEND;TZID=America/Chicago:20231114T190000
DTSTAMP:20260423T075702
CREATED:20230928T200243Z
LAST-MODIFIED:20231113T212637Z
UID:5010-1699983000-1699988400@joplincc.com
SUMMARY:November 2023 Business After Hours
DESCRIPTION:End your day with connections and keep the momentum going from a good day at work by making new connections at Business After Hours! \nThis month’s Business After Hours is sponsored by Jefferson’s Restaurant. Business After Hours is presented by Higher Vision Coaching. Training. Consulting.
URL:https://joplincc.com/event/november-2023-business-after-hours/
LOCATION:Jefferson’s Restaurant\, 430 S. Geneva Avenue\, Suite 100\, Joplin\, MO\, 64801\, United States
ATTACH;FMTTYPE=image/png:https://joplincc.com/wp-content/uploads/2023/09/November-2023-Business-After-Hours-Graphic.png
END:VEVENT
END:VCALENDAR